BEGIN:VCALENDAR
VERSION:2.0
PRODID:-//New Jersey Presidents&#039; Council - NJPC - ECPv6.15.20//NONSGML v1.0//EN
CALSCALE:GREGORIAN
METHOD:PUBLISH
X-WR-CALNAME:New Jersey Presidents&#039; Council - NJPC
X-ORIGINAL-URL:https://www.njpc.org
X-WR-CALDESC:Events for New Jersey Presidents&#039; Council - NJPC
REFRESH-INTERVAL;VALUE=DURATION:PT1H
X-Robots-Tag:noindex
X-PUBLISHED-TTL:PT1H
BEGIN:VTIMEZONE
TZID:America/New_York
BEGIN:DAYLIGHT
TZOFFSETFROM:-0500
TZOFFSETTO:-0400
TZNAME:EDT
DTSTART:20240310T070000
END:DAYLIGHT
BEGIN:STANDARD
TZOFFSETFROM:-0400
TZOFFSETTO:-0500
TZNAME:EST
DTSTART:20241103T060000
END:STANDARD
BEGIN:DAYLIGHT
TZOFFSETFROM:-0500
TZOFFSETTO:-0400
TZNAME:EDT
DTSTART:20250309T070000
END:DAYLIGHT
BEGIN:STANDARD
TZOFFSETFROM:-0400
TZOFFSETTO:-0500
TZNAME:EST
DTSTART:20251102T060000
END:STANDARD
BEGIN:DAYLIGHT
TZOFFSETFROM:-0500
TZOFFSETTO:-0400
TZNAME:EDT
DTSTART:20260308T070000
END:DAYLIGHT
BEGIN:STANDARD
TZOFFSETFROM:-0400
TZOFFSETTO:-0500
TZNAME:EST
DTSTART:20261101T060000
END:STANDARD
END:VTIMEZONE
BEGIN:VEVENT
DTSTART;VALUE=DATE:20250303
DTEND;VALUE=DATE:20250304
DTSTAMP:20260423T041217
CREATED:20240606T001827Z
LAST-MODIFIED:20240606T001827Z
UID:2311-1740960000-1741046399@www.njpc.org
SUMMARY:Executive Board Meeting
DESCRIPTION:
URL:https://www.njpc.org/event/executive-board-meeting-9/
CATEGORIES:NJPC
END:VEVENT
BEGIN:VEVENT
DTSTART;VALUE=DATE:20250314
DTEND;VALUE=DATE:20250315
DTSTAMP:20260423T041217
CREATED:20240809T133915Z
LAST-MODIFIED:20240809T133915Z
UID:2362-1741910400-1741996799@www.njpc.org
SUMMARY:AIC Deadline for April Material Submissions
DESCRIPTION:
URL:https://www.njpc.org/event/aic-deadline-for-april-material-submissions-2/
CATEGORIES:DEADLINE
END:VEVENT
BEGIN:VEVENT
DTSTART;VALUE=DATE:20250328
DTEND;VALUE=DATE:20250329
DTSTAMP:20260423T041217
CREATED:20240809T135255Z
LAST-MODIFIED:20240809T135255Z
UID:2378-1743120000-1743206399@www.njpc.org
SUMMARY:AIC March 2025 Meeting
DESCRIPTION:
URL:https://www.njpc.org/event/aic-march-2025-meeting/
CATEGORIES:AIC
END:VEVENT
END:VCALENDAR